BEGIN:VCALENDAR
VERSION:2.0
PRODID:-//Tukios.com/
BEGIN:VEVENT
UID:1b2dc355-248c-42bc-94f7-f89a91573e11@www.solosyfuneralhome.com
DTSTAMP:20260423T175135Z
DTSTART:20260424T170000Z
DTEND:20260424T180000Z
SUMMARY:Interment
DESCRIPTION:
URL:https://www.solosyfuneralhome.com/obituaries/james-blaylock
LOCATION: 9400 West Fort Street  Detroit MI 48209
GEO:42.298961;-83.136769
END:VEVENT
END:VCALENDAR