BEGIN:VCALENDAR
VERSION:2.0
PRODID:-//Tukios.com/
BEGIN:VEVENT
UID:b5dfb40a-ea9a-4fc2-846a-9d0f02deee44@www.solosyfuneralhome.com
DTSTAMP:20260420T224355Z
DTSTART:20260423T170000Z
DTEND:20260424T000000Z
SUMMARY:Visitation
DESCRIPTION:
URL:https://www.solosyfuneralhome.com/obituaries/patricia-wutke-drawe
LOCATION: 3206 Fort St  Lincoln Park MI 48146
GEO:42.2387274;-83.1806335
END:VEVENT
END:VCALENDAR