BEGIN:VCALENDAR
VERSION:2.0
PRODID:-//Tukios.com/
BEGIN:VEVENT
UID:b34b602e-13c6-43ca-89f0-f70453cd8d6f@www.solosyfuneralhome.com
DTSTAMP:20260420T223807Z
DTSTART:20260423T223000Z
DTEND:20260424T000000Z
SUMMARY:Funeral Service
DESCRIPTION:
URL:https://www.solosyfuneralhome.com/obituaries/patricia-wutke-drawe
LOCATION: 3206 Fort St  Lincoln Park MI 48146
GEO:42.2387274;-83.1806335
END:VEVENT
END:VCALENDAR